BEGIN:VCALENDAR
VERSION:2.0
PRODID:-//ExpressionEngine Easy iCalendar plugin//NONSGML v2.0.1//EN
X-WR-TIMEZONE:America/Denver
X-WR-CALNAME:Upcoming Auctions
BEGIN:VEVENT
UID:160200
DTSTAMP:20260423T120000
DTSTART:20260423T120000
DTEND:20260504T190700
SUMMARY:Sparkle & Shine for Mom...and More! Jewelry May 2026
LOCATION:{location}
DESCRIPTION:Celebrate the occasion with Sparkle for Mom & More\, a refine
 d online jewelry auction filled with estate treasures and fi
 ne pieces. Honor the ones who shine with an elegant selectio
 n of rings\, necklaces\, bracelets\, even luxury pens and vibra
 nt gemstonesâ€”each chosen for its beauty and timeless appea
 l. From meaningful gifts to standout additions\, discover som
 ething truly special. Terms & Conditions Items are located i
 n our office in Monument\, CO 80132. Pickup is MayÂ 5th & 6th
 Â (10am - 4pm) by appointment. In-person inspection and prev
 iew are available by appointment only. Call the Auctioneer a
 t (719) 667-1000 for details.Â  Shipping is available Please
  allow 7-10 business days to process shipping requests. Canc
 eled shipping requests will still be liable for material and
  handling charges. Your invoice will reflect the CASH price.
  Credit card payments will be charged an additional 3.5% buy
 erâ€™s premium. We must be notified of intent to pay with ca
 sh or a credit card differing from the one on file by 10am t
 he morning following the auction close. Cash payments/pickup
 s must be made within 48 hours\, after which cards on file wi
 ll be charged for winnings. Cash or Wire Transfer ONLY will 
 be accepted for purchasesÂ exceeding $500\, including titled 
 vehicles. Credit cards will NOT be accepted. If you wish to 
 pay for your purchases by cash or a credit card that is diff
 erent from the one used to register for the auction\, please 
 notify us before 10am the day following the auction. All cre
 dit cards on file may be processed for purchases up to $500Â
  at 10:30am on the day following the auction\, unless payment
  arrangements are made with our office.Â  All weights\, measu
 rements\, and dimensions are approximate. Items not picked up
  during the designated pick-up times will be deemed abandone
 d and will revert back to the seller with no refunds.Â  Call
  our office with any questions at 719-667-1000 Â 
URL:https://www.schursuccessgroup.com/auctions/detail/bw160200
SEQUENCE:1
END:VEVENT
END:VCALENDAR