BEGIN:VCALENDAR
VERSION:2.0
PRODID:-//ExpressionEngine Easy iCalendar plugin//NONSGML v2.0.0//EN
X-WR-TIMEZONE:America/Denver
X-WR-CALNAME:Upcoming Auctions
BEGIN:VEVENT
UID:160521
DTSTAMP:20260417T120000
DTSTART:20260417T120000
DTEND:20260521T110700
SUMMARY:4200 W. 17th Avenue #233
LOCATION:4200 W. 17th Avenue #233\, Denver\, CO 80204\, US
DESCRIPTION:Refined Lakehouse Residence | ON-LINE-ONLY - Real Estate Au
 ction Presenting a rare opportunity to own an elegant one-be
 droom\, one-bath residence at 4200 W. 17th Avenue\, within the
  coveted Lakehouse community near Sloan’s Lake. This thoug
 htfully designed home offers the perfect blend of modern sop
 histication and effortless city living\, with an open\, light-
 filled layout\, elevated finishes\, and a refined sense of sty
 le throughout. The kitchen is appointed with sleek cabinetry
 \, quartz countertops\, and premium stainless-steel appliances
 \, while the spacious bedroom and spa-like bath provide a ser
 ene and polished retreat. Lakehouse is known for its excepti
 onal HOA amenities and unmatched lifestyle appeal. Residents
  enjoy access to a beautifully appointed clubhouse\, concierg
 e service\, state-of-the-art fitness center\, pool\, spa/hot tu
 b\, sauna\, secure parking\, elevator access\, bike storage and 
 maintenance\, business center\, dog wash\, and inviting outdoor
  common areas designed for relaxation and connection. Ideall
 y situated near Sloan’s Lake\, this residence places you mo
 ments from scenic trails\, acclaimed dining\, boutique shoppin
 g\, and some of Denver’s most desirable neighborhood amenit
 ies. Whether as a primary residence\, a lock-and-leave retrea
 t\, or an investment in one of the city’s most sought-after
  communities\, this home offers lasting appeal and remarkable
  versatility. Offered exclusively at auction\, this is a comp
 elling opportunity for buyers who value clarity\, momentum\, a
 nd market-driven pricing. Auction creates a focused and effi
 cient purchase process\, allowing buyers to compete on equal 
 footing while eliminating the uncertainty of extended negoti
 ations. For the informed buyer\, it can be an excellent way t
 o secure a distinguished property with transparency and conf
 idence. Online bidding opens April 21\, 2026\, and ends May 21
 \, 2026 - 11:07 am\, Mountain Time Zone IF YOU WISH TO BID\, 
 you will be sent a bidders' packet and will be required to s
 ign a document acknowledging the terms and conditions. Once 
 it is received\, the auctioneer will contact you to activate 
 your bidding permission.
URL:https://www.schursuccessgroup.com/auctions/detail/bw160521
SEQUENCE:1
END:VEVENT
END:VCALENDAR